BEGIN:VCALENDAR
VERSION:2.0
PRODID:-//eventon.com NONSGML v1.0//EN
CALSCALE:GREGORIAN
METHOD:PUBLISH
BEGIN:VEVENT
UID:69e78742dbf6d
DTSTAMP:20260421T141842Z
DTSTART:20260606T090000Z
DTEND:20260607T173000Z
LOCATION:
SUMMARY:Staffordshire Motorsport Show
DESCRIPTION:Staffordshire Motorsport Show\nhttps://desertghostracing.com/ev
 ents/staffordshire-motoersport-show/
URL:https://desertghostracing.com/events/staffordshire-motoersport-show/
END:VEVENT
END:VCALENDAR